BEGIN:VCALENDAR
VERSION:2.0
PRODID:-//Lothar Daniel Bechtold - ECPv6.15.16//NONSGML v1.0//EN
CALSCALE:GREGORIAN
METHOD:PUBLISH
X-WR-CALNAME:Lothar Daniel Bechtold
X-ORIGINAL-URL:https://lothardanielbechtold.com
X-WR-CALDESC:Veranstaltungen für Lothar Daniel Bechtold
REFRESH-INTERVAL;VALUE=DURATION:PT1H
X-Robots-Tag:noindex
X-PUBLISHED-TTL:PT1H
BEGIN:VTIMEZONE
TZID:Europe/Vienna
BEGIN:DAYLIGHT
TZOFFSETFROM:+0100
TZOFFSETTO:+0200
TZNAME:CEST
DTSTART:20230326T010000
END:DAYLIGHT
BEGIN:STANDARD
TZOFFSETFROM:+0200
TZOFFSETTO:+0100
TZNAME:CET
DTSTART:20231029T010000
END:STANDARD
BEGIN:DAYLIGHT
TZOFFSETFROM:+0100
TZOFFSETTO:+0200
TZNAME:CEST
DTSTART:20240331T010000
END:DAYLIGHT
BEGIN:STANDARD
TZOFFSETFROM:+0200
TZOFFSETTO:+0100
TZNAME:CET
DTSTART:20241027T010000
END:STANDARD
BEGIN:DAYLIGHT
TZOFFSETFROM:+0100
TZOFFSETTO:+0200
TZNAME:CEST
DTSTART:20250330T010000
END:DAYLIGHT
BEGIN:STANDARD
TZOFFSETFROM:+0200
TZOFFSETTO:+0100
TZNAME:CET
DTSTART:20251026T010000
END:STANDARD
END:VTIMEZONE
BEGIN:VEVENT
DTSTART;VALUE=DATE:20241108
DTEND;VALUE=DATE:20241111
DTSTAMP:20260421T020343
CREATED:20240313T221836Z
LAST-MODIFIED:20240313T221836Z
UID:2218-1731024000-1731283199@lothardanielbechtold.com
SUMMARY:Blickfang Wien
DESCRIPTION:FR 08. Nov | 12-20 Uhr\nSA 09. Nov | 10-20 Uhr\nSO 10. Nov | 10-18 Uhr
URL:https://lothardanielbechtold.com/termine/blickfang-wien-2/
LOCATION:MAK Wien\, Stubenring 5\, Wien\, 1010\, Österreich
END:VEVENT
BEGIN:VEVENT
DTSTART;VALUE=DATE:20241115
DTEND;VALUE=DATE:20241118
DTSTAMP:20260421T020344
CREATED:20240402T134219Z
LAST-MODIFIED:20240402T134219Z
UID:2397-1731628800-1731887999@lothardanielbechtold.com
SUMMARY:Blickfang Zürich
DESCRIPTION:FR 15. Nov I 12-20 Uhr\nSA 16. Nov I 11-19 Uhr\nSO 17. Nov | 11-18 Uhr
URL:https://lothardanielbechtold.com/termine/blickfang-zuerich-2/
LOCATION:Kongresshaus Zürich\, Claridenstraße 5\, Zürich\, 8002\, Schweiz
END:VEVENT
BEGIN:VEVENT
DTSTART;VALUE=DATE:20241122
DTEND;VALUE=DATE:20241125
DTSTAMP:20260421T020344
CREATED:20241029T223738Z
LAST-MODIFIED:20241029T223738Z
UID:3099-1732233600-1732492799@lothardanielbechtold.com
SUMMARY:Blickfang München
DESCRIPTION:FR 22. Nov | 14-20 Uhr\nSA 23. Nov | 11-19 Uhr\nSO 24. Nov | 11-18 Uhr
URL:https://lothardanielbechtold.com/termine/blickfang-muenchen/
LOCATION:Praterinsel 3-4\, Praterinsel 3-4\, München\, 80538\, Germany
END:VEVENT
BEGIN:VEVENT
DTSTART;VALUE=DATE:20241128
DTEND;VALUE=DATE:20241202
DTSTAMP:20260421T020344
CREATED:20240402T134932Z
LAST-MODIFIED:20240402T135551Z
UID:2400-1732752000-1733097599@lothardanielbechtold.com
SUMMARY:Weihnachtliche Landpartie Schloss Gödens
DESCRIPTION:DO – SA 28. – 30. Nov I 12-20 Uhr\nSO 01. Dez I 12-19 Uhr
URL:https://lothardanielbechtold.com/termine/weihnachtliche-landpartie-schloss-goedens/
LOCATION:Schloss Gödens\, Schloss Gödens 1\, Sande-Gödens\, 26452\, Deutschland
END:VEVENT
END:VCALENDAR