BEGIN:VCALENDAR
VERSION:2.0
PRODID:-//Lothar Daniel Bechtold - ECPv6.15.16//NONSGML v1.0//EN
CALSCALE:GREGORIAN
METHOD:PUBLISH
X-WR-CALNAME:Lothar Daniel Bechtold
X-ORIGINAL-URL:https://lothardanielbechtold.com
X-WR-CALDESC:Veranstaltungen für Lothar Daniel Bechtold
REFRESH-INTERVAL;VALUE=DURATION:PT1H
X-Robots-Tag:noindex
X-PUBLISHED-TTL:PT1H
BEGIN:VTIMEZONE
TZID:Europe/Vienna
BEGIN:DAYLIGHT
TZOFFSETFROM:+0100
TZOFFSETTO:+0200
TZNAME:CEST
DTSTART:20230326T010000
END:DAYLIGHT
BEGIN:STANDARD
TZOFFSETFROM:+0200
TZOFFSETTO:+0100
TZNAME:CET
DTSTART:20231029T010000
END:STANDARD
BEGIN:DAYLIGHT
TZOFFSETFROM:+0100
TZOFFSETTO:+0200
TZNAME:CEST
DTSTART:20240331T010000
END:DAYLIGHT
BEGIN:STANDARD
TZOFFSETFROM:+0200
TZOFFSETTO:+0100
TZNAME:CET
DTSTART:20241027T010000
END:STANDARD
BEGIN:DAYLIGHT
TZOFFSETFROM:+0100
TZOFFSETTO:+0200
TZNAME:CEST
DTSTART:20250330T010000
END:DAYLIGHT
BEGIN:STANDARD
TZOFFSETFROM:+0200
TZOFFSETTO:+0100
TZNAME:CET
DTSTART:20251026T010000
END:STANDARD
END:VTIMEZONE
BEGIN:VEVENT
DTSTART;VALUE=DATE:20240831
DTEND;VALUE=DATE:20240903
DTSTAMP:20260420T231213
CREATED:20240313T212103Z
LAST-MODIFIED:20240402T135755Z
UID:2206-1725062400-1725321599@lothardanielbechtold.com
SUMMARY:Oberlausitzer Leinentage
DESCRIPTION:SA – MO 31. Aug – 02. Sep I 10-18 Uhr
URL:https://lothardanielbechtold.com/termine/oberlausitzer-leinentage/
LOCATION:Barockschloss Rammenau\, Am Schloss 4\, Rammenau\, 01877\, Deutschland
END:VEVENT
BEGIN:VEVENT
DTSTART;VALUE=DATE:20240913
DTEND;VALUE=DATE:20240916
DTSTAMP:20260420T231213
CREATED:20240313T213017Z
LAST-MODIFIED:20240313T213017Z
UID:2209-1726185600-1726444799@lothardanielbechtold.com
SUMMARY:Mut zum Hut (Neuburg an der Donau)
DESCRIPTION:FR 13. Sep I 17-21 Uhr\nSA 14. Sep I 10-20 Uhr\nSO 15. Sep I 10-19 Uhr
URL:https://lothardanielbechtold.com/termine/mut-zum-hut-neuburg-an-der-donau/
LOCATION:Residenz Schloss Neuburg\, Residenzstraße 2\, Neuburg an der Donau\, 86633\, Deutschland
END:VEVENT
BEGIN:VEVENT
DTSTART;VALUE=DATE:20240921
DTEND;VALUE=DATE:20240923
DTSTAMP:20260420T231213
CREATED:20240313T220622Z
LAST-MODIFIED:20240313T220622Z
UID:2212-1726876800-1727049599@lothardanielbechtold.com
SUMMARY:Textilmarkt Benediktbeuern
DESCRIPTION:
URL:https://lothardanielbechtold.com/termine/textilmarkt-benediktbeuern/
LOCATION:Kloster Benediktbeuern\, Zeilerweg 2\, Benediktbeuern\, 83671
END:VEVENT
BEGIN:VEVENT
DTSTART;VALUE=DATE:20240926
DTEND;VALUE=DATE:20240930
DTSTAMP:20260420T231213
CREATED:20240313T221547Z
LAST-MODIFIED:20240402T135827Z
UID:2216-1727308800-1727654399@lothardanielbechtold.com
SUMMARY:Landpartie Gut Horn
DESCRIPTION:DO – SO 26. – 29. SEP
URL:https://lothardanielbechtold.com/termine/landpartie-gut-horn-3/
LOCATION:Gut Horn\, Gut Horn 1\, Wiefelstede\, 26215\, Deutschland
END:VEVENT
END:VCALENDAR